Workbook

Sheet Formulario
A1: ANEXO I RESOLUCIÓN Nº……………..
A2: FORMULARIO PARA LA EVALUACION INDEPENDIENTE DEL NIVEL DE IMPLEMENTACION DEL MECIP EN LAS INSTITUCIONES DEPENDIENTES DEL PODER EJECUTIVO Página 1
A3: EN LA COLUMNA CALIFICACIÓN, ESCRIBA EL NÚMERO QUE CORRESPONDA DEL 0 AL 5, DEPENDIENDO DE LAS EVIDENCIAS CON QUE CUENTA LA AUDITORÍA INTERNA.
A4: COMPONENTE CORPORATIVO | B4: COMPONENTE | C4: ESTÁNDARES DE CONTROL | D4: No. | E4: Parámetro | F4: Calificación | G4: Si Cumple: Citar y adjuntar Evidencias | H4: Si no cumple, exponer el motivo. Si está en proceso, explicar el estado de avance
A6: FASE DE DISEÑO DE LA IMPLEMENTACIÓN | D6: 1 | E6: ¿La Máxima Autoridad de la Institución en Ejercicio ha manifestado su compromiso de asumir y apoyar la implementación del MECIP, a través de un Acta de Compromiso?
D7: 2 | E7: ¿La Institución ha adoptado el MECIP a través de un Acto Administrativo?
D8: 3 | E8: La Máxima Autoridad designó a su representante, responsable de la implementación del MECIP mediante acto administrativo?
D9: 4 | E9: La Institución ha integrado los Grupos de Trabajo - Nivel Directivo y Grupo Técnico-Equipo MECIP para la implementación del modelo?
D10: 5 | E10: Se definieron roles y responsabilidades en las resoluciones correspondientes de conformación de equipos ?
D11: 6 | E11: Se reúne periódicamente, al menos semestralmente, el Comité de Control Interno y deja evidencia de dichas reuniones?
D12: 7 | E12: Se reúne periódicamente el Equipo Técnico MECIP, al menos una vez al mes, y deja evidencia de dichas reuniones?
D13: 8 | E13: La Institución ha realizado el diagnóstico del Control Interno?
D14: 9 | E14: Los resultados del diagnóstico del Control Interno se pusieron a conocimiento de la Máxima Autoridad?
D15: 10 | E15: Se socializa entre los funcionarios el proceso de diseño, implementación del MECIP?
D16: 11 | E16: La Institución ha elaborado el Plan de Trabajo para la implementación del MECIP, en el cual se definan fecha de inicio y de culminación de la actividad, responsables, descripción de la actividad, entre otros?.
D17: 12 | E17: El Plan ha sido aprobado por la Máxima Autoridad?
E18: RESULTADOS | F18: =AVERAGE(F6:F17) -> #DIV/0!
A19: De Control Estratégico | B19: AMBIENTE DE CONTROL | C19: ACUERDOS Y COMPROMISOS ÉTICOS | D19: 1 | E19: La institución tiene un Código de Ética, formalmente aprobado por la Máxima Autoridad?
D20: 2 | E20: El Codigo de Ética de la Institución fue socializado entre los funcionarios?
D21: 3 | E21: Las Dependencias han elaborado los Acuerdos y Compromisos Éticos con participación de los funcionarios?
D22: 4 | E22: Los Acuerdos y Compromisos Éticos fueron socializados entre los funcionarios de la dependencia?
D23: 5 | E23: Existe un Comité de Ética creado formalmente por acto administrativo?
D24: 6 | E24: Existen evidencias de las reuniones del Comité de Ética?
E25: RESULTADOS | F25: =AVERAGE(F19:F24) -> #DIV/0!
C26: DESARROLLO DEL TALENTO HUMANO | D26: 1 | E26: La Institución ha emitido oficialmente políticas para los procesos de selección, inducción, reinducción, capacitación y evaluación al desempeño del funcionariado?.
D27: 2 | E27: Existen procesos aprobados para la selección, inducción, reinducción , capacitación y evaluación del desempeño
D28: 3 | E28: Existen evidencias de socialización de los procesos de selección, inducción, reinducción , capacitación y evaluación del desempeño?
E29: RESULTADOS | F29: =AVERAGE(F26:F28) -> #DIV/0!
C30: PROTOCOLOS DE BUEN GOBIERNO | D30: 1 | E30: La Institución posee un Código de Buen Gobierno o Documento orientador del compromiso de la Máxima Autoridad y sus directivos, actualizado y aprobado por resolución o acto administrativo de la Máxima Autoridad?.
D31: 2 | E31: El Código de Buen Gobierno o Documento orientador del compromiso de la Máxima Autoridad y sus directivos, ha sido socializado con los funcionarios?.
D32: 3 | E32: Se ha conformado un Comité de Buen Gobierno?
D33: 4 | E33: Se reúne periódicamente, al menos semestralmente, el Comité de Buen Gobierno y deja evidencia de dichas reuniones?
E34: RESULTADOS | F34: =AVERAGE(F30:F33) -> #DIV/0!
A36: ANEXO I RESOLUCIÓN Nº……………..
A37: FORMULARIO PARA LA EVALUACION INDEPENDIENTE DEL NIVEL DE IMPLEMENTACION DEL MECIP EN LAS INSTITUCIONES DEPENDIENTES DEL PODER EJECUTIVO Página 2
A38: EN LA COLUMNA CALIFICACIÓN, ESCRIBA EL NÚMERO QUE CORRESPONDA DEL 0 AL 5, DEPENDIENDO DE LAS EVIDENCIAS CON QUE CUENTA LA AUDITORÍA INTERNA.
A39: COMPONENTE CORPORATIVO | B39: COMPONENTE | C39: ESTANDARES DE CONTROL | D39: No. | E39: Parámetro | F39: Calificación | G39: Si Cumple:Citar Evidencia | H39: Si no cumple, exponer el motivo. Si está en proceso, explicar el estado de avance
A40: De Control Estratégico | B40: DIRECCIONAMIENTO ESTRATÉGICO | C40: PLANES Y PROGRAMAS | D40: 1 | E40: La Institución tiene un plan estratégico que contenga misión, visión, objetivos, valores, entre otros?.
D41: 2 | E41: La Institución elabora y ejecuta planes y programas operativos alineados con el Plan Estratégico?.
D42: 3 | E42: Los Planes y Programas son divulgados a los diferentes públicos internos y externos que tienen relación con la Institución?.
D43: 4 | E43: La Institución evalúa el grado de cumplimiento de sus planes y programas?.
D44: 5 | E44: La máxima autoridad adopta acciones en base a los resultados de las evaluaciones de los Planes y Programas?.
E45: RESULTADOS | F45: =AVERAGE(F40:F44) -> #DIV/0!
C46: MODELO DE GESTIÓN POR PROCESOS | D46: 1 | E46: El Modelo de Gestión de la institución contiene macroprocesos estratégicos, misionales y de apoyo elaborados con base en las reglamentaciones vigentes y aprobados por la máxima autoridad de la institución?
D47: 2 | E47: Existe relación entre los objetivos de los macroprocesos con el conjunto de Planes y Programas de la Institución?
D48: 3 | E48: El Modelo de Gestión esta representado en el Mapa de Procesos?.
D49: 4 | E49: El Modelo de Operación contiene procesos, subprocesos, actividades y tareas de la institución?.
D50: 5 | E50: Existe relación entre los objetivos de los macroprocesos con los procesos, subprocesos y actividades?.
E51: RESULTADOS | F51: =AVERAGE(F46:F50) -> #DIV/0!
C52: ESTRUCTURA ORGANIZACIONAL | D52: 1 | E52: Existe un Organigrama institucional actualizado y aprobado por la máxima autoridad?
D53: 2 | E53: Existe relación entre la estructura organizacional con el Modelo de Gestión por procesos de la Institución?
D54: 3 | E54: Existen manuales u otros documentos actualizados y aprobados por la autoridad competente que detallen actividades secuenciales de cada cargo?.
D55: 4 | E55: La máxima autoridad o sus delegados, han establecido por escrito los niveles de autoridad y responsabilidad para tomar las decisiones requeridas en cada proceso?.
E56: RESULTADOS | F56: =AVERAGE(F52:F55) -> #DIV/0!
B57: ADMINISTRACIÓN DE RIESGOS | C57: CONTEXTO ESTRATÉGICO DE RIESGO | D57: 1 | E57: Para la elaboración de planes y programas se identifican las oportunidades y amenazas generadas por el entorno?
D58: 2 | E58: Los funcionarios de los diferentes niveles directivos de la institución participaron en el análisis del contexto estratégico?
D59: 3 | E59: La máxima autoridad valida el análisis del contexto estratégico de la Institución?
D60: 4 | E60: Los directivos de la institución analizan periódicamente, por lo menos una vez al año, la vigencia del contexto estratégico de riesgos?
E61: RESULTADOS | F61: =AVERAGE(F57:F60) -> #DIV/0!
C62: IDENTIFICACIÓN DE RIESGOS | D62: 1 | E62: Se identifican y describen los riesgos que afectan el logro de los objetivos establecidos para los macroprocesos, procesos, subprocesos y actividades?
D63: 2 | E63: Se identifica en forma precisa el agente generador, las causas y los efectos de cada riesgo con relacion a los objetivos intitucionales?.
D64: 3 | E64: Se identifica en forma precisa el agente generador, las causas y los efectos de cada riesgo con relacion a cada Macroproceso, Proceso, Subproceso y actividades?.
D65: 4 | E65: El nivel directivo valida la identificación de Riesgos en el Modelo de Operación?
E66: RESULTADOS | F66: =AVERAGE(F62:F65) -> #DIV/0!
A74: ANEXO I RESOLUCIÓN Nº……………..
A75: FORMULARIO PARA LA EVALUACION INDEPENDIENTE DEL NIVEL DE IMPLEMENTACION DEL MECIP EN LAS INSTITUCIONES DEPENDIENTES DEL PODER EJECUTIVO Página 3
A76: EN LA COLUMNA CALIFICACIÓN, ESCRIBA EL NÚMERO QUE CORRESPONDA DEL 0 AL 5, DEPENDIENDO DE LAS EVIDENCIAS CON QUE CUENTA LA AUDITORÍA INTERNA.
A77: De Control Estratégico | B77: ADMINISTRACIÓN DE RIESGOS | C77: ANÁLISIS DE RIESGO | D77: 1 | E77: Se aplica la metodología de Análisis de Riesgos en los niveles que conforman el Modelo de Operación por Procesos (mapa de procesos) de la Institución?.
D78: 2 | E78: En el análisis de riesgos se establecen las probabilidades de ocurrencia y sus impactos así como la respectiva valoración?.
D79: 3 | E79: Se fundamenta el Análisis de Riesgos en los elementos proporcionados por la identificación de Riesgos?
D80: 4 | E80: Se documenta la evaluación del riesgo?
D81: 5 | E81: Se determina el efecto del análisis de riesgos sobre los demás estándares de control?.
E82: RESULTADOS | F82: =AVERAGE(F77:F81) -> #DIV/0!
C83: VALORACIÓN DE RIESGOS | D83: 1 | E83: La metodología de Valoración de Riesgos se aplica en todos los niveles que conforman el Modelo de Gestión por procesos de la Institución?.
D84: 2 | E84: La Valoración de Riesgos se fundamenta en los elementos proporcionados por el análisis del contexto estratégico, la Identificación y el análisis de riesgos?
D85: 3 | E85: Existe relación entre los criterios utilizados para determinar la priorizacion de los macroprocesos, procesos, subprocesos y actividades y sus respectivos riesgos?
D86: 4 | E86: La valoración de los riesgos permite determinar el nivel o grado de exposición de la institucion a los impactos del riesgo?.
E87: RESULTADOS | F87: =AVERAGE(F83:F86) -> #DIV/0!
C88: POLÍTICAS DE ADMINISTRACION DE RIESGOS | D88: 1 | E88: Las Políticas de Administración de Riesgos toman en cuenta los resultados obtenidos del Contexto Estratégico, Identificación, Análisis y Valoración de Riesgos?
D89: 2 | E89: Las Políticas de Administración de Riesgos incluyen parámetros para la aceptación, reduccion/ prevención, y mitigación del riesgo?
D90: 3 | E90: Fueron socializados entre los Funcionarios las Políticas de Administración de Riesgos?
E91: RESULTADOS | F91: =AVERAGE(F88:F90) -> #DIV/0!
A117: ANEXO I RESOLUCIÓN Nº……………..
A118: FORMULARIO PARA LA EVALUACION INDEPENDIENTE DEL NIVEL DE IMPLEMENTACION DEL MECIP EN LAS INSTITUCIONES DEPENDIENTES DEL PODER EJECUTIVO Página 4
A119: EN LA COLUMNA CALIFICACIÓN, ESCRIBA EL NÚMERO QUE CORRESPONDA DEL 0 AL 5, DEPENDIENDO DE LAS EVIDENCIAS CON QUE CUENTA LA AUDITORÍA INTERNA.
A120: COMPONENTE CORPORATIVO | B120: COMPONENTE | C120: ESTANDARES DE CONTROL | D120: No. | E120: Parámetro | F120: Calificación | G120: Si Cumple:Citar Evidencia | H120: Si no cumple, exponer el motivo. Si está en proceso, explicar el estado de avance
A121: De Control de Gestión | B121: ACTIVIDADES DE CONTROL | C121: POLÍTICAS DE OPERACIÓN | D121: 1 | E121: Fueron definidas las Políticas de Operación?
D122: 2 | E122: Existe relación entre las Políticas de Operación y las Políticas de Administración de Riesgos?
D123: 3 | E123: Las Políticas de Operación orientan la ejecución de las actividades y tareas?.
D124: 4 | E124: Las Políticas de Operación incluyen parámetros para los procedimientos, los controles y los indicadores?
D125: 5 | E125: Se establecen las acciones a tomar en caso de su incumplimiento?
D126: 6 | E126: Existen parámetros que obligan a la revisión periódica de las Políticas de Operación?
E127: RESULTADOS | F127: =AVERAGE(F122:F126) -> #DIV/0!
C128: PROCEDIMIENTOS | D128: 1 | E128: Existen Procedimientos que describen la manera de llevar a cabo las actividades de la Institución?
D129: 2 | E129: Existe relación entre la definición de los perfiles de los cargos con los procedimientos establecidos?
D130: 3 | E130: Los funcionarios conocen sus responsabilidades y aplican los procedimientos relativos a su cargo?
D131: 4 | E131: Los procedimientos facilitan el cumplimiento de los objetivos de los procesos?
E132: RESULTADOS | F132: =AVERAGE(F128:F131) -> #DIV/0!
C133: CONTROLES | D133: 1 | E133: Los funcionarios conocen y aplican los controles establecidos para las áreas, procesos y actividades de los cuales forman parte?.
D134: 2 | E134: Existen parámetros para la revisión periódica de los controles establecidos?
...

Sheet Resultados
B1: CONSOLIDADO EVALUACIÓN INDEPENDIENTE POR ESTÁNDARES DE CONTROL, COMPONENTES BÁSICOS Y COMPONENTES CORPORATIVOS - F 193
B2: ENTIDAD
B3: MODELO ESTANDAR DE CONTROL INTERNO DE PARAGUAY | E3: CALIFICACION POR ESTANDAR | F3: INTERPRETACION | G3: CALIFICACION POR COMPONENTE | H3: INTERPRETACION | I3: CALIFICACION POR COMPONENTE CORPORATIVO | J3: INTERPRETACION | K3: CALIFICACION DEL MECIP | L3: INTERPRETACION
B4: FASE DE DISEÑO E IMPLEMENTACIÓN | I4: =Formulario!F18 -> #DIV/0! | J4: =IF(I4<2.01,"INADECUADO",IF(I4<3.01,"DEFICIENTE",IF(I4<4.01,"SATISFACTORIO","ADECUADO"))) -> #DIV/0! | K4: =AVERAGE(I4:I33) -> #DIV/0! | L4: =IF(K4<2.01,"INADECUADO",IF(K4<3.01,"DEFICIENTE",IF(K4<4.01,"SATISFACTORIO","ADECUADO"))) -> #DIV/0!
B5: DE CONTROL ESTRATÉGICO | C5: AMBIENTE DE CONTROL | D5: ACUERDOS Y COMPROMISOS ÉTICOS | E5: =Formulario!F25 -> #DIV/0! | F5: =IF(E5<2.01,"INADECUADO",IF(E5<3.01,"DEFICIENTE",IF(E5<4.01,"SATISFACTORIO","ADECUADO"))) -> #DIV/0! | G5: =AVERAGE(E5:E7) -> #DIV/0! | H5: =IF(G5<2.01,"INADECUADO",IF(G5<3.01,"DEFICIENTE",IF(G5<4.01,"SATISFACTORIO","ADECUADO"))) -> #DIV/0! | I5: =AVERAGE(G5:G15) -> #DIV/0! | J5: =IF(I5<2.01,"INADECUADO",IF(I5<3.01,"DEFICIENTE",IF(I5<4.01,"SATISFACTORIO","ADECUADO"))) -> #DIV/0!
D6: DESARROLLO DEL TALENTO HUMANO | E6: =Formulario!F29 -> #DIV/0! | F6: =IF(E6<2.01,"INADECUADO",IF(E6<3.01,"DEFICIENTE",IF(E6<4.01,"SATISFACTORIO","ADECUADO"))) -> #DIV/0!
D7: PROTOCOLOS DE BUEN GOBIERNO | E7: =Formulario!F34 -> #DIV/0! | F7: =IF(E7<2.01,"INADECUADO",IF(E7<3.01,"DEFICIENTE",IF(E7<4.01,"SATISFACTORIO","ADECUADO"))) -> #DIV/0!
C8: DIRECCIONAMIENTO ESTRATÉGICO | D8: PLANES Y PROGRAMAS | E8: =Formulario!F45 -> #DIV/0! | F8: =IF(E8<2.01,"INADECUADO",IF(E8<3.01,"DEFICIENTE",IF(E8<4.01,"SATISFACTORIO","ADECUADO"))) -> #DIV/0! | G8: =AVERAGE(E8:E10) -> #DIV/0! | H8: =IF(G8<2.01,"INADECUADO",IF(G8<3.01,"DEFICIENTE",IF(G8<4.01,"SATISFACTORIO","ADECUADO"))) -> #DIV/0!
D9: MODELO DE GESTION POR PROCESOS | E9: =Formulario!F51 -> #DIV/0! | F9: =IF(E9<2.01,"INADECUADO",IF(E9<3.01,"DEFICIENTE",IF(E9<4.01,"SATISFACTORIO","ADECUADO"))) -> #DIV/0!
D10: ESTRUCTURA ORGANIZACIONAL | E10: =Formulario!F56 -> #DIV/0! | F10: =IF(E10<2.01,"INADECUADO",IF(E10<3.01,"DEFICIENTE",IF(E10<4.01,"SATISFACTORIO","ADECUADO"))) -> #DIV/0!
C11: ADMINISTRACIÓN DEL RIESGO | D11: CONTEXTO ESTRATÉGICO DEL RIESGO | E11: =Formulario!F61 -> #DIV/0! | F11: =IF(E11<2.01,"INADECUADO",IF(E11<3.01,"DEFICIENTE",IF(E11<4.01,"SATISFACTORIO","ADECUADO"))) -> #DIV/0! | G11: =AVERAGE(E11:E15) -> #DIV/0! | H11: =IF(G11<2.01,"INADECUADO",IF(G11<3.01,"DEFICIENTE",IF(G11<4.01,"SATISFACTORIO","ADECUADO"))) -> #DIV/0!
D12: IDENTIFICACIÓN DEL RIESGO | E12: =Formulario!F66 -> #DIV/0! | F12: =IF(E12<2.01,"INADECUADO",IF(E12<3.01,"DEFICIENTE",IF(E12<4.01,"SATISFACTORIO","ADECUADO"))) -> #DIV/0!
D13: ANÁLISIS DEL RIESGO | E13: =Formulario!F82 -> #DIV/0! | F13: =IF(E13<2.01,"INADECUADO",IF(E13<3.01,"DEFICIENTE",IF(E13<4.01,"SATISFACTORIO","ADECUADO"))) -> #DIV/0!
D14: VALORACIÓN DEL RIESGO | E14: =Formulario!F87 -> #DIV/0! | F14: =IF(E14<2.01,"INADECUADO",IF(E14<3.01,"DEFICIENTE",IF(E14<4.01,"SATISFACTORIO","ADECUADO"))) -> #DIV/0!
D15: POLÍTICAS DE ADMINISTRACIÓN DEL RIESGO | E15: =Formulario!F91 -> #DIV/0! | F15: =IF(E15<2.01,"INADECUADO",IF(E15<3.01,"DEFICIENTE",IF(E15<4.01,"SATISFACTORIO","ADECUADO"))) -> #DIV/0!
B16: DE CONTROL DE GESTIÓN | C16: ACTIVIDADES DE CONTROL | D16: POLÍTICAS DE OPERACIÓN | E16: =Formulario!F127 -> #DIV/0! | F16: =IF(E16<2.01,"INADECUADO",IF(E16<3.01,"DEFICIENTE",IF(E16<4.01,"SATISFACTORIO","ADECUADO"))) -> #DIV/0! | G16: =AVERAGE(E16:E20) -> #DIV/0! | H16: =IF(G16<2.01,"INADECUADO",IF(G16<3.01,"DEFICIENTE",IF(G16<4.01,"SATISFACTORIO","ADECUADO"))) -> #DIV/0! | I16: =AVERAGE(G16:G26) -> #DIV/0! | J16: =IF(I16<2.01,"INADECUADO",IF(I16<3.01,"DEFICIENTE",IF(I16<4.01,"SATISFACTORIO","ADECUADO"))) -> #DIV/0!
D17: PROCEDIMIENTOS | E17: =Formulario!F132 -> #DIV/0! | F17: =IF(E17<2.01,"INADECUADO",IF(E17<3.01,"DEFICIENTE",IF(E17<4.01,"SATISFACTORIO","ADECUADO"))) -> #DIV/0!
D18: CONTROLES | E18: =Formulario!F136 -> #DIV/0! | F18: =IF(E18<2.01,"INADECUADO",IF(E18<3.01,"DEFICIENTE",IF(E18<4.01,"SATISFACTORIO","ADECUADO"))) -> #DIV/0!
D19: INDICADORES | E19: =Formulario!F143 -> #DIV/0! | F19: =IF(E19<2.01,"INADECUADO",IF(E19<3.01,"DEFICIENTE",IF(E19<4.01,"SATISFACTORIO","ADECUADO"))) -> #DIV/0!
D20: MANUAL DE OPERACIÓN | E20: =Formulario!F147 -> #DIV/0! | F20: =IF(E20<2.01,"INADECUADO",IF(E20<3.01,"DEFICIENTE",IF(E20<4.01,"SATISFACTORIO","ADECUADO"))) -> #DIV/0!
C21: INFORMACIÓN | D21: INFORMACIÓN INTERNA | E21: =Formulario!F168 -> #DIV/0! | F21: =IF(E21<2.01,"INADECUADO",IF(E21<3.01,"DEFICIENTE",IF(E21<4.01,"SATISFACTORIO","ADECUADO"))) -> #DIV/0! | G21: =AVERAGE(E21:E23) -> #DIV/0! | H21: =IF(G21<2.01,"INADECUADO",IF(G21<3.01,"DEFICIENTE",IF(G21<4.01,"SATISFACTORIO","ADECUADO"))) -> #DIV/0!
D22: INFORMACIÓN EXTERNA | E22: =Formulario!F174 -> #DIV/0! | F22: =IF(E22<2.01,"INADECUADO",IF(E22<3.01,"DEFICIENTE",IF(E22<4.01,"SATISFACTORIO","ADECUADO"))) -> #DIV/0!
D23: SISTEMAS DE INFORMACIÓN | E23: =Formulario!F180 -> #DIV/0! | F23: =IF(E23<2.01,"INADECUADO",IF(E23<3.01,"DEFICIENTE",IF(E23<4.01,"SATISFACTORIO","ADECUADO"))) -> #DIV/0!
C24: COMUNICACIÓN | D24: COMUNICACIÓN INSTITUCIONAL | E24: =Formulario!F185 -> #DIV/0! | F24: =IF(E24<2.01,"INADECUADO",IF(E24<3.01,"DEFICIENTE",IF(E24<4.01,"SATISFACTORIO","ADECUADO"))) -> #DIV/0! | G24: =AVERAGE(E24:E26) -> #DIV/0! | H24: =IF(G24<2.01,"INADECUADO",IF(G24<3.01,"DEFICIENTE",IF(G24<4.01,"SATISFACTORIO","ADECUADO"))) -> #DIV/0!
D25: COMUNICACIÓN PUBLICA | E25: =Formulario!F192 -> #DIV/0! | F25: =IF(E25<2.01,"INADECUADO",IF(E25<3.01,"DEFICIENTE",IF(E25<4.01,"SATISFACTORIO","ADECUADO"))) -> #DIV/0!
D26: RENDICION DE CUENTAS | E26: =Formulario!F200 -> #DIV/0! | F26: =IF(E26<2.01,"INADECUADO",IF(E26<3.01,"DEFICIENTE",IF(E26<4.01,"SATISFACTORIO","ADECUADO"))) -> #DIV/0!
B27: DE CONTROL DE EVALUACIÓN | C27: AUTOEVALUACIÓN | D27: AUTOEVALUACIÓN DEL CONTROL | E27: =Formulario!F206 -> #DIV/0! | F27: =IF(E27<2.01,"INADECUADO",IF(E27<3.01,"DEFICIENTE",IF(E27<4.01,"SATISFACTORIO","ADECUADO"))) -> #DIV/0! | G27: =AVERAGE(E27:E28) -> #DIV/0! | H27: =IF(G27<2.01,"INADECUADO",IF(G27<3.01,"DEFICIENTE",IF(G27<4.01,"SATISFACTORIO","ADECUADO"))) -> #DIV/0! | I27: =AVERAGE(G27:G33) -> #DIV/0! | J27: =IF(I27<2.01,"INADECUADO",IF(I27<3.01,"DEFICIENTE",IF(I27<4.01,"SATISFACTORIO","ADECUADO"))) -> #DIV/0!
D28: AUTOEVALUACIÓN DE GESTIÓN | E28: =Formulario!F213 -> #DIV/0! | F28: =IF(E28<2.01,"INADECUADO",IF(E28<3.01,"DEFICIENTE",IF(E28<4.01,"SATISFACTORIO","ADECUADO"))) -> #DIV/0!
C29: EVALUACION INDEPENDIENTE | D29: EVALUACION DEL SISTEMA DE CONTROL INTERNO | E29: =Formulario!F218 -> #DIV/0! | F29: =IF(E29<2.01,"INADECUADO",IF(E29<3.01,"DEFICIENTE",IF(E29<4.01,"SATISFACTORIO","ADECUADO"))) -> #DIV/0! | G29: =AVERAGE(E29:E30) -> #DIV/0! | H29: =IF(G29<2.01,"INADECUADO",IF(G29<3.01,"DEFICIENTE",IF(G29<4.01,"SATISFACTORIO","ADECUADO"))) -> #DIV/0!
D30: AUDITORIA INTERNA | E30: =Formulario!F227 -> #DIV/0! | F30: =IF(E30<2.01,"INADECUADO",IF(E30<3.01,"DEFICIENTE",IF(E30<4.01,"SATISFACTORIO","ADECUADO"))) -> #DIV/0!
C31: PLANES DE MEJORAMIENTO | D31: PLAN DE MEJORAMIENTO INSTITUCIONAL | E31: =Formulario!F238 -> #DIV/0! | F31: =IF(E31<2.01,"INADECUADO",IF(E31<3.01,"DEFICIENTE",IF(E31<4.01,"SATISFACTORIO","ADECUADO"))) -> #DIV/0! | G31: =AVERAGE(E31:E33) -> #DIV/0! | H31: =IF(G31<2.01,"INADECUADO",IF(G31<3.01,"DEFICIENTE",IF(G31<4.01,"SATISFACTORIO","ADECUADO"))) -> #DIV/0!
D32: PLAN DE MEJORAMIENTO FUNCIONAL | E32: =Formulario!F243 -> #DIV/0! | F32: =IF(E32<2.01,"INADECUADO",IF(E32<3.01,"DEFICIENTE",IF(E32<4.01,"SATISFACTORIO","ADECUADO"))) -> #DIV/0!
D33: PLANES DE MEJORAMIENTO INDIVIDUAL | E33: =Formulario!F248 -> #DIV/0! | F33: =IF(E33<2.01,"INADECUADO",IF(E33<3.01,"DEFICIENTE",IF(E33<4.01,"SATISFACTORIO","ADECUADO"))) -> #DIV/0!
C35: RANGOS DE INTERPRETACIÓN DEL DIAGNÓSTICO DEL SISTEMA DE CONTROL INTERNO
C37: Rango 0.0 – 2,0: | D37: INADECUADO
C39: Rango 2.1 – 3,0: | D39: DEFICIENTE
C41: Rango 3.1 – 4,0: | D41: SATISFACTORIO
C43: Rango 4.1 – 5.0: | D43: ADECUADO
